BEGIN:VCALENDAR
VERSION:2.0
PRODID:-//Canadian Toy Train Association - ECPv6.15.17//NONSGML v1.0//EN
CALSCALE:GREGORIAN
METHOD:PUBLISH
X-WR-CALNAME:Canadian Toy Train Association
X-ORIGINAL-URL:https://www.canadiantoytrains.org
X-WR-CALDESC:Events for Canadian Toy Train Association
REFRESH-INTERVAL;VALUE=DURATION:PT1H
X-Robots-Tag:noindex
X-PUBLISHED-TTL:PT1H
BEGIN:VTIMEZONE
TZID:America/Vancouver
BEGIN:DAYLIGHT
TZOFFSETFROM:-0800
TZOFFSETTO:-0700
TZNAME:PDT
DTSTART:20240310T100000
END:DAYLIGHT
BEGIN:STANDARD
TZOFFSETFROM:-0700
TZOFFSETTO:-0800
TZNAME:PST
DTSTART:20241103T090000
END:STANDARD
BEGIN:DAYLIGHT
TZOFFSETFROM:-0800
TZOFFSETTO:-0700
TZNAME:PDT
DTSTART:20250309T100000
END:DAYLIGHT
BEGIN:STANDARD
TZOFFSETFROM:-0700
TZOFFSETTO:-0800
TZNAME:PST
DTSTART:20251102T090000
END:STANDARD
BEGIN:DAYLIGHT
TZOFFSETFROM:-0800
TZOFFSETTO:-0700
TZNAME:PDT
DTSTART:20260308T100000
END:DAYLIGHT
BEGIN:STANDARD
TZOFFSETFROM:-0700
TZOFFSETTO:-0800
TZNAME:PST
DTSTART:20261101T090000
END:STANDARD
END:VTIMEZONE
BEGIN:VEVENT
DTSTART;TZID=America/Vancouver:20251004T000000
DTEND;TZID=America/Vancouver:20251005T000000
DTSTAMP:20260421T132752
CREATED:20250907T213052Z
LAST-MODIFIED:20250907T213124Z
UID:113132-1759536000-1759622400@www.canadiantoytrains.org
SUMMARY:Oct. 4-5: Lynden\, WA Train Show 2025
DESCRIPTION:THIS SHOW ENJOYED BY THOUSANDS EACH YEAR IS ONE OF THE LARGEST SHOWS ON THE WEST COAST.  THERE ARE RUNNING MODULES IN ALL GAUGES OF MODEL TRAINS AND CIRCUS DISPLAYS.  THERE WILL ALSO BE MEMORABILIA\, A SWAP MEET\, DEALER TABLES AND WORKSHOPS. \nPROCEEDS OF THIS EVENT  BENEFIT LIONS COMMUNITY PROJECTS. \n2025 TRAIN SHOW: \nSATURDAY OCT. 4th 9AM-5PM\nSUNDAY OCT. 5th 10AM-4PM \nAdmission: \nAdults – $10.00 U.S.\,\nSeniors $8.00\,\nFamily up to 6 people $25.00\nAges 6-12 $5.00\,\nUnder 6 free. \n  \nLYNDEN LIONS CLUB 39th ANNUAL\nMODEL TRAIN AND TOY SHOW\nDATES: Saturday 4 October (9-5)\, Sunday 5 October (10-4)\n(Setup: Friday 11 AM to 10 PM\, Saturday 7 to 8:30 AM)\nLOCATION: Northwest Washington Fairgrounds\, Henry Jansen\nAgricultural Bldg.\, 1775 Front St.\, Lynden\, WA. 98264 \nALL DOGS MUST BE LEASHED AT ALL TIMES.\nAdmission: Adults $7.00 U.S.\, Seniors $6.00\, Family up to 6 people $22\,\nAges 6-12 $5.00\, under age 6 free. \n 
URL:https://www.canadiantoytrains.org/event/oct-4-5-lynden-wa-train-show/
LOCATION:Northwest Washington Fairgrounds\, 1775 Front St.\, Lynden\, WA\, 98264\, United States
CATEGORIES:Train Show
ATTACH;FMTTYPE=image/png:https://www.canadiantoytrains.org/wp-content/uploads/2025/09/Lions_Clubs_International_Logo.jpg.png
END:VEVENT
END:VCALENDAR