BEGIN:VCALENDAR
VERSION:2.0
PRODID:-//Canadian Toy Train Association - ECPv6.15.17//NONSGML v1.0//EN
CALSCALE:GREGORIAN
METHOD:PUBLISH
X-WR-CALNAME:Canadian Toy Train Association
X-ORIGINAL-URL:https://www.canadiantoytrains.org
X-WR-CALDESC:Events for Canadian Toy Train Association
REFRESH-INTERVAL;VALUE=DURATION:PT1H
X-Robots-Tag:noindex
X-PUBLISHED-TTL:PT1H
BEGIN:VTIMEZONE
TZID:America/Vancouver
BEGIN:DAYLIGHT
TZOFFSETFROM:-0800
TZOFFSETTO:-0700
TZNAME:PDT
DTSTART:20200308T100000
END:DAYLIGHT
BEGIN:STANDARD
TZOFFSETFROM:-0700
TZOFFSETTO:-0800
TZNAME:PST
DTSTART:20201101T090000
END:STANDARD
BEGIN:DAYLIGHT
TZOFFSETFROM:-0800
TZOFFSETTO:-0700
TZNAME:PDT
DTSTART:20210314T100000
END:DAYLIGHT
BEGIN:STANDARD
TZOFFSETFROM:-0700
TZOFFSETTO:-0800
TZNAME:PST
DTSTART:20211107T090000
END:STANDARD
BEGIN:DAYLIGHT
TZOFFSETFROM:-0800
TZOFFSETTO:-0700
TZNAME:PDT
DTSTART:20220313T100000
END:DAYLIGHT
BEGIN:STANDARD
TZOFFSETFROM:-0700
TZOFFSETTO:-0800
TZNAME:PST
DTSTART:20221106T090000
END:STANDARD
END:VTIMEZONE
BEGIN:VEVENT
DTSTART;TZID=America/Vancouver:20210821T100000
DTEND;TZID=America/Vancouver:20210821T160000
DTSTAMP:20260424T022153
CREATED:20210726T183714Z
LAST-MODIFIED:20210726T183714Z
UID:6871-1629540000-1629561600@www.canadiantoytrains.org
SUMMARY:Model Builders Outdoor Swap Meet - Nanaimo
DESCRIPTION:Saturday August 21\, open to the public from 10-4\, at Beban Park Centennial Field in Nanaimo. Sales only – there are no displays planned.\nParksville Museum is holding Railway Days the same day and there will be displays there.\n\nThe site is strictly no smoking or vaping\, which is especially important in this fire season\, standing on dry grass.\n\nThere is a Quality Foods with a Deli\, the Landlubber Pub\, Da Tang Chinese and Columbia Bakery all within a two minute walk of the site for lunch. \nFull info here: https://www.canadiantoytrains.org/wp-content/uploads/2021/07/Model-Builders-Outdoor-Swap-Meet.pdf \n 
URL:https://www.canadiantoytrains.org/event/model-builders-outdoor-swap-meet-nanaimo/
LOCATION:AB
END:VEVENT
END:VCALENDAR