BEGIN:VCALENDAR
VERSION:2.0
PRODID:-//Canadian Toy Train Association - ECPv6.15.17//NONSGML v1.0//EN
CALSCALE:GREGORIAN
METHOD:PUBLISH
X-ORIGINAL-URL:https://www.canadiantoytrains.org
X-WR-CALDESC:Events for Canadian Toy Train Association
REFRESH-INTERVAL;VALUE=DURATION:PT1H
X-Robots-Tag:noindex
X-PUBLISHED-TTL:PT1H
BEGIN:VTIMEZONE
TZID:America/Vancouver
BEGIN:DAYLIGHT
TZOFFSETFROM:-0800
TZOFFSETTO:-0700
TZNAME:PDT
DTSTART:20250309T100000
END:DAYLIGHT
BEGIN:STANDARD
TZOFFSETFROM:-0700
TZOFFSETTO:-0800
TZNAME:PST
DTSTART:20251102T090000
END:STANDARD
BEGIN:DAYLIGHT
TZOFFSETFROM:-0800
TZOFFSETTO:-0700
TZNAME:PDT
DTSTART:20260308T100000
END:DAYLIGHT
BEGIN:STANDARD
TZOFFSETFROM:-0700
TZOFFSETTO:-0800
TZNAME:PST
DTSTART:20261101T090000
END:STANDARD
BEGIN:DAYLIGHT
TZOFFSETFROM:-0800
TZOFFSETTO:-0700
TZNAME:PDT
DTSTART:20270314T100000
END:DAYLIGHT
BEGIN:STANDARD
TZOFFSETFROM:-0700
TZOFFSETTO:-0800
TZNAME:PST
DTSTART:20271107T090000
END:STANDARD
END:VTIMEZONE
BEGIN:VEVENT
DTSTART;TZID=America/Vancouver:20260222T000000
DTEND;TZID=America/Vancouver:20260222T000000
DTSTAMP:20260422T145517
CREATED:20260105T192548Z
LAST-MODIFIED:20260105T192548Z
UID:113362-1771718400-1771718400@www.canadiantoytrains.org
SUMMARY:Feb. 22\, 2026 - CTTA Monthly Club Meeting
DESCRIPTION:Join us for our Monthly Club meeting!  \nDoors open at 10:30Lunch at 12:00 Business meeting at 12:30Table sales and Auction
URL:https://www.canadiantoytrains.org/event/feb-22-2026-ctta-monthly-club-meeting/
LOCATION:Charles Rummel Community Centre\, 3630 Lozells Ave\, Burnaby\, BC\, V5A 2Y8\, Canada
CATEGORIES:Monthly Club Meet
ATTACH;FMTTYPE=image/jpeg:https://www.canadiantoytrains.org/wp-content/uploads/2023/10/CTTA-logo-touched-up.jpg
ORGANIZER;CN="CTTA":MAILTO:canadiantoytrains@gmail.com
END:VEVENT
BEGIN:VEVENT
DTSTART;TZID=America/Vancouver:20260321T000000
DTEND;TZID=America/Vancouver:20260322T000000
DTSTAMP:20260422T145517
CREATED:20260318T051050Z
LAST-MODIFIED:20260318T051050Z
UID:113459-1774051200-1774137600@www.canadiantoytrains.org
SUMMARY:March 21-22: Sea-to-Sky Model Train & Hobby Show
DESCRIPTION:Saturday March 21\, 2026 – 10:00 am to 5:00 pm\nSunday March 22\, 2026 – 10:00 am to 4:00 pm\nRailway Museum of British Columbia\n39645 Government Road  Squamish B.C.\nJoin us for lots of trains and Family fun!\nShow tickets available at the gate. Free Parking.\nFor best price\, buy tickets online before the show!
URL:https://www.canadiantoytrains.org/event/sea-to-sky-model-train-hobby-show-2026/
LOCATION:Railway Museum of BC\, 39645 Government Road\, Squamish\, BC\, V8B 0B6\, Canada
CATEGORIES:Train Show
ATTACH;FMTTYPE=image/webp:https://www.canadiantoytrains.org/wp-content/uploads/2023/03/Members.webp
ORGANIZER;CN="Railway Museum of BC":MAILTO:trainshow@wcra.org
END:VEVENT
BEGIN:VEVENT
DTSTART;TZID=America/Vancouver:20260329T000000
DTEND;TZID=America/Vancouver:20260329T000000
DTSTAMP:20260422T145517
CREATED:20260105T200740Z
LAST-MODIFIED:20260105T200740Z
UID:113368-1774742400-1774742400@www.canadiantoytrains.org
SUMMARY:March 29\, 2026 - CTTA Monthly Club Meeting
DESCRIPTION:Join us for our Monthly Club meeting!  \nDoors open at 10:30Lunch at 12:00 Business meeting at 12:30Table sales and Auction
URL:https://www.canadiantoytrains.org/event/mar-2026-ctta-monthly-club-meeting/
LOCATION:Charles Rummel Community Centre\, 3630 Lozells Ave\, Burnaby\, BC\, V5A 2Y8\, Canada
CATEGORIES:Monthly Club Meet
ATTACH;FMTTYPE=image/jpeg:https://www.canadiantoytrains.org/wp-content/uploads/2023/10/CTTA-logo-touched-up.jpg
ORGANIZER;CN="CTTA":MAILTO:canadiantoytrains@gmail.com
END:VEVENT
BEGIN:VEVENT
DTSTART;TZID=America/Vancouver:20260425T090000
DTEND;TZID=America/Vancouver:20260426T170000
DTSTAMP:20260422T145517
CREATED:20260422T023938Z
LAST-MODIFIED:20260422T023938Z
UID:113524-1777107600-1777222800@www.canadiantoytrains.org
SUMMARY:April 25-26: Calgary Supertrain
DESCRIPTION:Saturday April 25\, 2026 – 9:00 am to 5:00 pm\nSunday April 26\, 2026 – 9:00 am to 5:00 pm\nCalgary Supertrain\nCanada’s Largest Model Train Show\nCalgary Olympic Oval\,\nUniversity of Calgary\, 288 Collegiate Blvd NW\nJoin us for lots of trains and Family fun!\nTICKETS ARE AVAILABLE ONLINE and AT THE DOOR – Credit\, Debit\, Cash\nSUPERTRAIN is proud to support the Calgary Food Bank.\nCollection boxes will be available to accept your non-perishable food donations.\nSUPERTRAIN features over 75\,000 square feet of Operating Model Railroad Layouts\,\nDisplays\, Lionel\, Lego Trains\, Thomas and Friends\, Garden Railroads\, Photo Exhibits\,\nVendors and more.
URL:https://www.canadiantoytrains.org/event/april-25-26-calgary-supertrain/
LOCATION:University of Calgary\, 288 Collegiate Blvd NW\, Calgary\, AB
CATEGORIES:Train Show
ATTACH;FMTTYPE=image/gif:https://www.canadiantoytrains.org/wp-content/uploads/2024/03/STLogo2024Horiz-571Wide.gif
END:VEVENT
BEGIN:VEVENT
DTSTART;TZID=America/Vancouver:20260426T000000
DTEND;TZID=America/Vancouver:20260426T000000
DTSTAMP:20260422T145517
CREATED:20260106T013844Z
LAST-MODIFIED:20260106T013844Z
UID:113371-1777161600-1777161600@www.canadiantoytrains.org
SUMMARY:April 26\, 2026 - CTTA Monthly Club Meeting
DESCRIPTION:Join us for our Monthly Club meeting!  \nDoors open at 10:30Lunch at 12:00 Business meeting at 12:30Table sales and Auction
URL:https://www.canadiantoytrains.org/event/april-2026-ctta-monthly-club-meeting/
LOCATION:Charles Rummel Community Centre\, 3630 Lozells Ave\, Burnaby\, BC\, V5A 2Y8\, Canada
CATEGORIES:Monthly Club Meet
ATTACH;FMTTYPE=image/jpeg:https://www.canadiantoytrains.org/wp-content/uploads/2023/10/CTTA-logo-touched-up.jpg
ORGANIZER;CN="CTTA":MAILTO:canadiantoytrains@gmail.com
END:VEVENT
BEGIN:VEVENT
DTSTART;TZID=America/Vancouver:20260524T000000
DTEND;TZID=America/Vancouver:20260524T000000
DTSTAMP:20260422T145517
CREATED:20260106T014006Z
LAST-MODIFIED:20260106T014006Z
UID:113370-1779580800-1779580800@www.canadiantoytrains.org
SUMMARY:May 24\, 2026 - CTTA Monthly Club Meeting
DESCRIPTION:Join us for our Monthly Club meeting!  \nDoors open at 10:30Lunch at 12:00 Business meeting at 12:30Table sales and Auction
URL:https://www.canadiantoytrains.org/event/may-2026-ctta-monthly-club-meeting/
LOCATION:Charles Rummel Community Centre\, 3630 Lozells Ave\, Burnaby\, BC\, V5A 2Y8\, Canada
CATEGORIES:Monthly Club Meet
ATTACH;FMTTYPE=image/jpeg:https://www.canadiantoytrains.org/wp-content/uploads/2023/10/CTTA-logo-touched-up.jpg
ORGANIZER;CN="CTTA":MAILTO:canadiantoytrains@gmail.com
END:VEVENT
BEGIN:VEVENT
DTSTART;TZID=America/Vancouver:20260628T000000
DTEND;TZID=America/Vancouver:20260628T000000
DTSTAMP:20260422T145517
CREATED:20260106T014302Z
LAST-MODIFIED:20260106T014302Z
UID:113374-1782604800-1782604800@www.canadiantoytrains.org
SUMMARY:June 28\, 2025 - CTTA Monthly Club Meeting
DESCRIPTION:Join us for our Monthly Club meeting!  \nDoors open at 10:30Lunch at 12:00 Business meeting at 12:30Table sales and Auction
URL:https://www.canadiantoytrains.org/event/june-2026-ctta-monthly-club-meeting/
LOCATION:Charles Rummel Community Centre\, 3630 Lozells Ave\, Burnaby\, BC\, V5A 2Y8\, Canada
CATEGORIES:Monthly Club Meet
ATTACH;FMTTYPE=image/jpeg:https://www.canadiantoytrains.org/wp-content/uploads/2023/10/CTTA-logo-touched-up.jpg
ORGANIZER;CN="CTTA":MAILTO:canadiantoytrains@gmail.com
END:VEVENT
BEGIN:VEVENT
DTSTART;TZID=America/Vancouver:20260913T000000
DTEND;TZID=America/Vancouver:20260913T000000
DTSTAMP:20260422T145517
CREATED:20260422T015608Z
LAST-MODIFIED:20260422T015608Z
UID:113522-1789257600-1789257600@www.canadiantoytrains.org
SUMMARY:Sept. 13 - Victoria Model Railway Show 2026
DESCRIPTION:34th Annual Victoria Model Railway Show 2026\nSunday\, September 13\n10:00am – 4:00pm \nOperating Model Railway\, Commercial and Individual Sales & Displays. \nAdmission:   Adult $10  Family $20   Youth 6-18 $5   5 and under free
URL:https://www.canadiantoytrains.org/event/sept-13-victoria-model-railway-show/
LOCATION:Mary Winspear Centre\, 2243 Beacon Avenue\, Sidney\, BC\, V8L 1W9\, Canada
CATEGORIES:Train Show
ATTACH;FMTTYPE=image/jpeg:https://www.canadiantoytrains.org/wp-content/uploads/2024/08/Mary-Winspear.jpg
END:VEVENT
END:VCALENDAR