BEGIN:VCALENDAR
VERSION:2.0
PRODID:-//Canadian Toy Train Association - ECPv6.15.17//NONSGML v1.0//EN
CALSCALE:GREGORIAN
METHOD:PUBLISH
X-ORIGINAL-URL:https://www.canadiantoytrains.org
X-WR-CALDESC:Events for Canadian Toy Train Association
REFRESH-INTERVAL;VALUE=DURATION:PT1H
X-Robots-Tag:noindex
X-PUBLISHED-TTL:PT1H
BEGIN:VTIMEZONE
TZID:America/Vancouver
BEGIN:DAYLIGHT
TZOFFSETFROM:-0800
TZOFFSETTO:-0700
TZNAME:PDT
DTSTART:20230312T100000
END:DAYLIGHT
BEGIN:STANDARD
TZOFFSETFROM:-0700
TZOFFSETTO:-0800
TZNAME:PST
DTSTART:20231105T090000
END:STANDARD
BEGIN:DAYLIGHT
TZOFFSETFROM:-0800
TZOFFSETTO:-0700
TZNAME:PDT
DTSTART:20240310T100000
END:DAYLIGHT
BEGIN:STANDARD
TZOFFSETFROM:-0700
TZOFFSETTO:-0800
TZNAME:PST
DTSTART:20241103T090000
END:STANDARD
BEGIN:DAYLIGHT
TZOFFSETFROM:-0800
TZOFFSETTO:-0700
TZNAME:PDT
DTSTART:20250309T100000
END:DAYLIGHT
BEGIN:STANDARD
TZOFFSETFROM:-0700
TZOFFSETTO:-0800
TZNAME:PST
DTSTART:20251102T090000
END:STANDARD
END:VTIMEZONE
BEGIN:VEVENT
DTSTART;TZID=America/Vancouver:20240421T120000
DTEND;TZID=America/Vancouver:20240421T160000
DTSTAMP:20260421T113322
CREATED:20240330T010702Z
LAST-MODIFIED:20240330T010831Z
UID:112457-1713700800-1713715200@www.canadiantoytrains.org
SUMMARY:April 21\, 2024: COOTTs Meet
DESCRIPTION:Sunday April 21\, 2024 – 12:00 noon to 4:00 pm\nOliver Woods Community Centre\n6000 Oliver Road\, Nanaimo BC\nAdmission $10.00\nTable Sales\, Auction\, Displays\, “Show and Tell”\, Door prizes and Refreshments\nEveryone welcome!
URL:https://www.canadiantoytrains.org/event/april-21-2024-cootts-meet/
LOCATION:Oliver Woods Community Centre\, 6000 Oliver Road\, Nanaimo\, BC\, Canada
CATEGORIES:Special Event
ATTACH;FMTTYPE=image/jpeg:https://www.canadiantoytrains.org/wp-content/uploads/2024/03/Oliver-Woods-CC.jpg
END:VEVENT
END:VCALENDAR