BEGIN:VCALENDAR
VERSION:2.0
PRODID:-//Canadian Toy Train Association - ECPv6.15.17//NONSGML v1.0//EN
CALSCALE:GREGORIAN
METHOD:PUBLISH
X-WR-CALNAME:Canadian Toy Train Association
X-ORIGINAL-URL:https://www.canadiantoytrains.org
X-WR-CALDESC:Events for Canadian Toy Train Association
REFRESH-INTERVAL;VALUE=DURATION:PT1H
X-Robots-Tag:noindex
X-PUBLISHED-TTL:PT1H
BEGIN:VTIMEZONE
TZID:America/Vancouver
BEGIN:DAYLIGHT
TZOFFSETFROM:-0800
TZOFFSETTO:-0700
TZNAME:PDT
DTSTART:20200308T100000
END:DAYLIGHT
BEGIN:STANDARD
TZOFFSETFROM:-0700
TZOFFSETTO:-0800
TZNAME:PST
DTSTART:20201101T090000
END:STANDARD
BEGIN:DAYLIGHT
TZOFFSETFROM:-0800
TZOFFSETTO:-0700
TZNAME:PDT
DTSTART:20210314T100000
END:DAYLIGHT
BEGIN:STANDARD
TZOFFSETFROM:-0700
TZOFFSETTO:-0800
TZNAME:PST
DTSTART:20211107T090000
END:STANDARD
BEGIN:DAYLIGHT
TZOFFSETFROM:-0800
TZOFFSETTO:-0700
TZNAME:PDT
DTSTART:20220313T100000
END:DAYLIGHT
BEGIN:STANDARD
TZOFFSETFROM:-0700
TZOFFSETTO:-0800
TZNAME:PST
DTSTART:20221106T090000
END:STANDARD
END:VTIMEZONE
BEGIN:VEVENT
DTSTART;TZID=America/Vancouver:20210609T150000
DTEND;TZID=America/Vancouver:20210609T180000
DTSTAMP:20260422T053048
CREATED:20210604T061204Z
LAST-MODIFIED:20210604T061204Z
UID:6780-1623250800-1623261600@www.canadiantoytrains.org
SUMMARY:Amherst Railway Society Virtual Hobby Show
DESCRIPTION:See http://amherstrail.org/ for details
URL:https://www.canadiantoytrains.org/event/amherst-railway-society-virtual-hobby-show/
LOCATION:AB
END:VEVENT
END:VCALENDAR